BEGIN:VCALENDAR
VERSION:2.0
PRODID:-//Allen Americans//allenamericans.com//EN
CALSCALE:GREGORIAN
BEGIN:VEVENT
UID:https://allenamericans.com/games/2026/05/03/idaho-steelheads
DTSTAMP:20260420T134448Z
SUMMARY:Idaho Steelheads @ Allen Americans
DTSTART;TZID=Canada/Central:20260503T161000
DTEND;TZID=Canada/Central:20260503T191000
DESCRIPTION:Idaho Steelheads at Allen Americans
LOCATION:Credit Union of Texas Event Center\, Allen\, Texas
URL;VALUE=URI:https://allenamericans.com/games/2026/05/03/idaho-steelheads
END:VEVENT
END:VCALENDAR
