BEGIN:VCALENDAR
VERSION:2.0
PRODID:-//Allen Americans//allenamericans.com//EN
CALSCALE:GREGORIAN
BEGIN:VEVENT
UID:https://allenamericans.com/games/2026/05/02/idaho-steelheads
DTSTAMP:20260420T042056Z
SUMMARY:Idaho Steelheads @ Allen Americans
DTSTART;TZID=Canada/Central:20260502T191000
DTEND;TZID=Canada/Central:20260502T221000
DESCRIPTION:Idaho Steelheads at Allen Americans
LOCATION:Credit Union of Texas Event Center\, Allen\, Texas
URL;VALUE=URI:https://allenamericans.com/games/2026/05/02/idaho-steelheads
END:VEVENT
END:VCALENDAR
