BEGIN:VCALENDAR
VERSION:2.0
PRODID:-//Allen Americans//allenamericans.com//EN
CALSCALE:GREGORIAN
BEGIN:VEVENT
UID:https://allenamericans.com/games/2026/04/27/idaho-steelheads
DTSTAMP:20260420T133456Z
SUMMARY:Allen Americans @ Idaho Steelheads
DTSTART;TZID=Canada/Mountain:20260427T191000
DTEND;TZID=Canada/Mountain:20260427T221000
DESCRIPTION:Allen Americans at Idaho Steelheads
LOCATION:Idaho Central Arena\, Boise\, Idaho
URL;VALUE=URI:https://allenamericans.com/games/2026/04/27/idaho-steelheads
END:VEVENT
END:VCALENDAR
