BEGIN:VCALENDAR
VERSION:2.0
PRODID:-//Allen Americans//allenamericans.com//EN
CALSCALE:GREGORIAN
BEGIN:VEVENT
UID:https://allenamericans.com/games/2026/04/26/round-1-game-3
DTSTAMP:20260421T130644Z
SUMMARY:Round 1 Game 3
DTSTART;TZID=Canada/Mountain:20260426T161000
DTEND;TZID=Canada/Mountain:20260426T191000
DESCRIPTION:Allen Americans at Idaho Steelheads
LOCATION:Idaho Central Arena\, Boise\, Idaho
URL;VALUE=URI:https://allenamericans.com/games/2026/04/26/round-1-game-3
END:VEVENT
END:VCALENDAR
