BEGIN:VCALENDAR
VERSION:2.0
PRODID:-//Allen Americans//allenamericans.com//EN
CALSCALE:GREGORIAN
BEGIN:VEVENT
UID:https://allenamericans.com/games/2026/04/24/round-1-game-2
DTSTAMP:20260420T024801Z
SUMMARY:Round 1 Game 2
DTSTART;TZID=Canada/Central:20260424T191000
DTEND;TZID=Canada/Central:20260424T221000
DESCRIPTION:Idaho Steelheads at Allen Americans
LOCATION:Credit Union of Texas Event Center\, Allen\, Texas
URL;VALUE=URI:https://allenamericans.com/games/2026/04/24/round-1-game-2
END:VEVENT
END:VCALENDAR
