BEGIN:VCALENDAR
VERSION:2.0
PRODID:-//Allen Americans//allenamericans.com//EN
CALSCALE:GREGORIAN
BEGIN:VEVENT
UID:https://allenamericans.com/games/2026/04/23/round-1-game-1
DTSTAMP:20260420T024307Z
SUMMARY:Round 1 Game 1
DTSTART;TZID=Canada/Central:20260423T191000
DTEND;TZID=Canada/Central:20260423T221000
DESCRIPTION:Idaho Steelheads at Allen Americans
LOCATION:Credit Union of Texas Event Center\, Allen\, Texas
URL;VALUE=URI:https://allenamericans.com/games/2026/04/23/round-1-game-1
END:VEVENT
END:VCALENDAR
